BEGIN:VCALENDAR
CALSCALE:GREGORIAN
VERSION:2.0
METHOD:PUBLISH
PRODID:-/Kultur in Hessen Website///DE
BEGIN:VEVENT
CREATED:20260425T195112Z
UID:f8e564300b46955b6fb5f7fac3c2531d
DTEND;VALUE=DATE:20260426
SUMMARY:Musikperformance für 8 - Violoncelli  - zum Aktionstag »Come in!«
LOCATION:Hessisches Landesmuseum Darmstadt, Darmstadt 
LAST-MODIFIED:20260425T195112Z
DTSTAMP:20260425T195112Z
DTSTART;VALUE=DATE:20260426
END:VEVENT
END:VCALENDAR