BEGIN:VCALENDAR
CALSCALE:GREGORIAN
VERSION:2.0
METHOD:PUBLISH
PRODID:-/Kultur in Hessen Website///DE
BEGIN:VEVENT
CREATED:20260425T194848Z
UID:f182bd10501ec94cf5334aea63f89f98
DTEND;VALUE=DATE:20260506
SUMMARY:»Ein Fressen unter Geiern« – als die Menschen begannen, Fleisch zu essen
LOCATION:Hessisches Landesmuseum Darmstadt, Darmstadt 
LAST-MODIFIED:20260425T194848Z
DTSTAMP:20260425T194848Z
DTSTART;VALUE=DATE:20260506
END:VEVENT
END:VCALENDAR