BEGIN:VCALENDAR
CALSCALE:GREGORIAN
VERSION:2.0
METHOD:PUBLISH
PRODID:-/Kultur in Hessen Website///DE
BEGIN:VEVENT
CREATED:20260425T194533Z
UID:e9ddd9fd02c63724f4bc3dbd1ccff946
DTEND;VALUE=DATE:20260517
SUMMARY:Internationaler Museumstag - Führung Burgruine
LOCATION:Staatspark Hanau-Wilhelmsbad, Hanau 
LAST-MODIFIED:20260425T194533Z
DTSTAMP:20260425T194533Z
DTSTART;VALUE=DATE:20260517
END:VEVENT
END:VCALENDAR