BEGIN:VCALENDAR
CALSCALE:GREGORIAN
VERSION:2.0
METHOD:PUBLISH
PRODID:-/Kultur in Hessen Website///DE
BEGIN:VEVENT
CREATED:20260425T194706Z
UID:e07f26fe8e019997b61ff3fc07505b71
DTEND;VALUE=DATE:20260705
SUMMARY:Räume im Verborgenen - Mit Wasserverkostung
LOCATION:Staatspark Hanau-Wilhelmsbad, Hanau 
LAST-MODIFIED:20260425T194706Z
DTSTAMP:20260425T194706Z
DTSTART;VALUE=DATE:20260705
END:VEVENT
END:VCALENDAR