BEGIN:VCALENDAR
CALSCALE:GREGORIAN
VERSION:2.0
METHOD:PUBLISH
PRODID:-/Kultur in Hessen Website///DE
BEGIN:VEVENT
CREATED:20260425T194914Z
UID:dc6839296704ea73dc8c46d6616559c8
DTEND;VALUE=DATE:20260503
SUMMARY:Wilhelmsbad erleben
LOCATION:Staatspark Hanau-Wilhelmsbad, Hanau 
LAST-MODIFIED:20260425T194914Z
DTSTAMP:20260425T194914Z
DTSTART;VALUE=DATE:20260503
END:VEVENT
END:VCALENDAR