BEGIN:VCALENDAR
CALSCALE:GREGORIAN
VERSION:2.0
METHOD:PUBLISH
PRODID:-/Kultur in Hessen Website///DE
BEGIN:VEVENT
CREATED:20260425T195010Z
UID:d25605c74ab39e24fb2b97c64ba5b965
DTEND;VALUE=DATE:20260426
SUMMARY:Musikperformance für 8 - Violoncelli - zum Aktionstag »Come in!«
LOCATION:Hessisches Landesmuseum Darmstadt, Darmstadt 
LAST-MODIFIED:20260425T195010Z
DTSTAMP:20260425T195010Z
DTSTART;VALUE=DATE:20260426
END:VEVENT
END:VCALENDAR