BEGIN:VCALENDAR
CALSCALE:GREGORIAN
VERSION:2.0
METHOD:PUBLISH
PRODID:-/Kultur in Hessen Website///DE
BEGIN:VEVENT
CREATED:20260425T195153Z
UID:9c3ec60aea44a436f6279414fff3449c
DTEND;VALUE=DATE:20260426
SUMMARY:Frischer Wind im Darmstädter Landesmuseum! - Aktionstag mit Programm
LOCATION:Hessisches Landesmuseum Darmstadt, Darmstadt 
LAST-MODIFIED:20260425T195153Z
DTSTAMP:20260425T195153Z
DTSTART;VALUE=DATE:20260426
END:VEVENT
END:VCALENDAR