BEGIN:VCALENDAR
CALSCALE:GREGORIAN
VERSION:2.0
METHOD:PUBLISH
PRODID:-/Kultur in Hessen Website///DE
BEGIN:VEVENT
CREATED:20260425T195229Z
UID:92cfe20c56c21def24d3634d5d2064d5
DTEND;VALUE=DATE:20260426
SUMMARY:Musikperformance für 8  Violoncelli - zum Aktionstag »Come in!«
LOCATION:Hessisches Landesmuseum Darmstadt, Darmstadt 
LAST-MODIFIED:20260425T195229Z
DTSTAMP:20260425T195229Z
DTSTART;VALUE=DATE:20260426
END:VEVENT
END:VCALENDAR