BEGIN:VCALENDAR
CALSCALE:GREGORIAN
VERSION:2.0
METHOD:PUBLISH
PRODID:-/Kultur in Hessen Website///DE
BEGIN:VEVENT
CREATED:20260425T195041Z
UID:91b354f2a79b13479a07bc4128850a5b
DTEND;VALUE=DATE:20260719
SUMMARY:Wilhelmsbad erleben - Führungen durch das hessische Puppen- und Spielzeugmuseum und das Karussell
LOCATION:Staatspark Hanau-Wilhelmsbad, Hanau 
LAST-MODIFIED:20260425T195041Z
DTSTAMP:20260425T195041Z
DTSTART;VALUE=DATE:20260719
END:VEVENT
END:VCALENDAR