BEGIN:VCALENDAR
CALSCALE:GREGORIAN
VERSION:2.0
METHOD:PUBLISH
PRODID:-/Kultur in Hessen Website///DE
BEGIN:VEVENT
CREATED:20260425T194727Z
UID:8bdfea04368ee213ca5d0962ae6a0c62
DTEND;VALUE=DATE:20260426
SUMMARY:Familienausflug zur modernen Kunst 1024 Farben - Wir entdecken die Kunst der Moderne
LOCATION:Hessisches Landesmuseum Darmstadt, Darmstadt 
LAST-MODIFIED:20260425T194727Z
DTSTAMP:20260425T194727Z
DTSTART;VALUE=DATE:20260426
END:VEVENT
END:VCALENDAR