BEGIN:VCALENDAR
CALSCALE:GREGORIAN
VERSION:2.0
METHOD:PUBLISH
PRODID:-/Kultur in Hessen Website///DE
BEGIN:VEVENT
CREATED:20260425T194534Z
UID:7a5cce795b1d8a8d4bfc9a0982cb33ee
DTEND;VALUE=DATE:20260906
SUMMARY:Baustellenführung im historischen Badhaus
LOCATION:Staatspark Hanau-Wilhelmsbad, Hanau 
LAST-MODIFIED:20260425T194534Z
DTSTAMP:20260425T194534Z
DTSTART;VALUE=DATE:20260906
END:VEVENT
END:VCALENDAR