BEGIN:VCALENDAR
CALSCALE:GREGORIAN
VERSION:2.0
METHOD:PUBLISH
PRODID:-/Kultur in Hessen Website///DE
BEGIN:VEVENT
CREATED:20260425T194628Z
UID:67eafae30b62f795e6fc549445d58dcb
DTEND;VALUE=DATE:20260503
SUMMARY:Wissen wächst im Garten: Praxis-Sensenkurs
LOCATION:Staatspark Fürstenlager, Bensheim-Auerbach, Bensheim-Auerbach 
LAST-MODIFIED:20260425T194628Z
DTSTAMP:20260425T194628Z
DTSTART;VALUE=DATE:20260503
END:VEVENT
END:VCALENDAR