BEGIN:VCALENDAR
CALSCALE:GREGORIAN
VERSION:2.0
METHOD:PUBLISH
PRODID:-/Kultur in Hessen Website///DE
BEGIN:VEVENT
CREATED:20260425T195402Z
UID:66caac295479f9fe60ff8963410ab594
DTEND;VALUE=DATE:20260426
SUMMARY:Führung zur Neugestaltung des Bereichs »Kunst nach 1945« Pinsel, Müll und Pixel – Kunst nach 1945. Blick hinter die Kulissen II
LOCATION:Hessisches Landesmuseum Darmstadt, Darmstadt 
LAST-MODIFIED:20260425T195402Z
DTSTAMP:20260425T195402Z
DTSTART;VALUE=DATE:20260426
END:VEVENT
END:VCALENDAR