BEGIN:VCALENDAR
CALSCALE:GREGORIAN
VERSION:2.0
METHOD:PUBLISH
PRODID:-/Kultur in Hessen Website///DE
BEGIN:VEVENT
CREATED:20260425T194715Z
UID:6544fe920dc3dc16d05410013a6ac455
DTEND;VALUE=DATE:20260614
SUMMARY:Wilhelmsbad erleben - Führung durch den Park und das Karussell
LOCATION:Staatspark Hanau-Wilhelmsbad, Hanau 
LAST-MODIFIED:20260425T194715Z
DTSTAMP:20260425T194715Z
DTSTART;VALUE=DATE:20260614
END:VEVENT
END:VCALENDAR