BEGIN:VCALENDAR
CALSCALE:GREGORIAN
VERSION:2.0
METHOD:PUBLISH
PRODID:-/Kultur in Hessen Website///DE
BEGIN:VEVENT
CREATED:20260425T194842Z
UID:5a69dfe68bb5cbf603543346921be809
DTEND;VALUE=DATE:20260426
SUMMARY:Führung zur Neugestaltung des Bereichs »Kunst nach 1945« Pinsel, Müll und Pixel – Kunst nach 1945. Blick hinter die Kulissen I
LOCATION:Hessisches Landesmuseum Darmstadt, Darmstadt 
LAST-MODIFIED:20260425T194842Z
DTSTAMP:20260425T194842Z
DTSTART;VALUE=DATE:20260426
END:VEVENT
END:VCALENDAR