BEGIN:VCALENDAR
CALSCALE:GREGORIAN
VERSION:2.0
METHOD:PUBLISH
PRODID:-/Kultur in Hessen Website///DE
BEGIN:VEVENT
CREATED:20260425T195020Z
UID:3ebaad597179e16d79e4b47656262397
DTEND;VALUE=DATE:20260520
SUMMARY:Öffentliche Tandemführung - Schicht für Schicht – ein geologischer Blick auf den »Block Beuys«
LOCATION:Hessisches Landesmuseum Darmstadt, Darmstadt 
LAST-MODIFIED:20260425T195020Z
DTSTAMP:20260425T195020Z
DTSTART;VALUE=DATE:20260520
END:VEVENT
END:VCALENDAR