BEGIN:VCALENDAR
CALSCALE:GREGORIAN
VERSION:2.0
METHOD:PUBLISH
PRODID:-/Kultur in Hessen Website///DE
BEGIN:VEVENT
CREATED:20260425T194629Z
UID:3a92e9769edaa72aa57f5b7f9e0153e5
DTEND;VALUE=DATE:20260426
SUMMARY:Führung zur Neugestaltung des Bereichs »Kunst nach 1945« - Aus dem Depot an die Wand. Konservatorische Aspekte der Neuhängung
LOCATION:Hessisches Landesmuseum Darmstadt, Darmstadt 
LAST-MODIFIED:20260425T194629Z
DTSTAMP:20260425T194629Z
DTSTART;VALUE=DATE:20260426
END:VEVENT
END:VCALENDAR