BEGIN:VCALENDAR
CALSCALE:GREGORIAN
VERSION:2.0
METHOD:PUBLISH
PRODID:-/Kultur in Hessen Website///DE
BEGIN:VEVENT
CREATED:20260425T194837Z
UID:1273e4299c79c5a6025e8a5b84606bae
DTEND;VALUE=DATE:20260913
SUMMARY:Tag des offenen Denkmals - Führung Burgruine
LOCATION:Staatspark Hanau-Wilhelmsbad, Hanau 
LAST-MODIFIED:20260425T194837Z
DTSTAMP:20260425T194837Z
DTSTART;VALUE=DATE:20260913
END:VEVENT
END:VCALENDAR